BEGIN:VCALENDAR
VERSION:2.0
PRODID:-//NJ Odyssey of the Mind - ECPv6.15.17.1//NONSGML v1.0//EN
CALSCALE:GREGORIAN
METHOD:PUBLISH
X-WR-CALNAME:NJ Odyssey of the Mind
X-ORIGINAL-URL:https://njootm.org
X-WR-CALDESC:Events for NJ Odyssey of the Mind
REFRESH-INTERVAL;VALUE=DURATION:PT1H
X-Robots-Tag:noindex
X-PUBLISHED-TTL:PT1H
BEGIN:VTIMEZONE
TZID:America/Halifax
BEGIN:DAYLIGHT
TZOFFSETFROM:-0400
TZOFFSETTO:-0300
TZNAME:ADT
DTSTART:20170312T060000
END:DAYLIGHT
BEGIN:STANDARD
TZOFFSETFROM:-0300
TZOFFSETTO:-0400
TZNAME:AST
DTSTART:20171105T050000
END:STANDARD
BEGIN:DAYLIGHT
TZOFFSETFROM:-0400
TZOFFSETTO:-0300
TZNAME:ADT
DTSTART:20180311T060000
END:DAYLIGHT
BEGIN:STANDARD
TZOFFSETFROM:-0300
TZOFFSETTO:-0400
TZNAME:AST
DTSTART:20181104T050000
END:STANDARD
BEGIN:DAYLIGHT
TZOFFSETFROM:-0400
TZOFFSETTO:-0300
TZNAME:ADT
DTSTART:20190310T060000
END:DAYLIGHT
BEGIN:STANDARD
TZOFFSETFROM:-0300
TZOFFSETTO:-0400
TZNAME:AST
DTSTART:20191103T050000
END:STANDARD
BEGIN:DAYLIGHT
TZOFFSETFROM:-0400
TZOFFSETTO:-0300
TZNAME:ADT
DTSTART:20200308T060000
END:DAYLIGHT
BEGIN:STANDARD
TZOFFSETFROM:-0300
TZOFFSETTO:-0400
TZNAME:AST
DTSTART:20201101T050000
END:STANDARD
BEGIN:DAYLIGHT
TZOFFSETFROM:-0400
TZOFFSETTO:-0300
TZNAME:ADT
DTSTART:20210314T060000
END:DAYLIGHT
BEGIN:STANDARD
TZOFFSETFROM:-0300
TZOFFSETTO:-0400
TZNAME:AST
DTSTART:20211107T050000
END:STANDARD
BEGIN:DAYLIGHT
TZOFFSETFROM:-0400
TZOFFSETTO:-0300
TZNAME:ADT
DTSTART:20220313T060000
END:DAYLIGHT
BEGIN:STANDARD
TZOFFSETFROM:-0300
TZOFFSETTO:-0400
TZNAME:AST
DTSTART:20221106T050000
END:STANDARD
BEGIN:DAYLIGHT
TZOFFSETFROM:-0400
TZOFFSETTO:-0300
TZNAME:ADT
DTSTART:20230312T060000
END:DAYLIGHT
BEGIN:STANDARD
TZOFFSETFROM:-0300
TZOFFSETTO:-0400
TZNAME:AST
DTSTART:20231105T050000
END:STANDARD
BEGIN:DAYLIGHT
TZOFFSETFROM:-0400
TZOFFSETTO:-0300
TZNAME:ADT
DTSTART:20240310T060000
END:DAYLIGHT
BEGIN:STANDARD
TZOFFSETFROM:-0300
TZOFFSETTO:-0400
TZNAME:AST
DTSTART:20241103T050000
END:STANDARD
BEGIN:DAYLIGHT
TZOFFSETFROM:-0400
TZOFFSETTO:-0300
TZNAME:ADT
DTSTART:20250309T060000
END:DAYLIGHT
BEGIN:STANDARD
TZOFFSETFROM:-0300
TZOFFSETTO:-0400
TZNAME:AST
DTSTART:20251102T050000
END:STANDARD
END:VTIMEZONE
BEGIN:VEVENT
DTSTART;VALUE=DATE:20240302
DTEND;VALUE=DATE:20240303
DTSTAMP:20260423T171656
CREATED:20230926T013502Z
LAST-MODIFIED:20230926T014412Z
UID:9603-1709337600-1709423999@njootm.org
SUMMARY:Skylands Regional Tournament 2024
DESCRIPTION:
URL:https://njootm.org/event/skylands-tournament-2024/
LOCATION:Millburn High School\, 462 Millburn Avenue\, Milburn\, NJ\, 07041\, United States
CATEGORIES:Skyland
END:VEVENT
BEGIN:VEVENT
DTSTART;VALUE=DATE:20230304
DTEND;VALUE=DATE:20230305
DTSTAMP:20260423T171656
CREATED:20221206T015933Z
LAST-MODIFIED:20221206T020156Z
UID:9405-1677888000-1677974399@njootm.org
SUMMARY:Skylands Regional Tournament 2023
DESCRIPTION:
URL:https://njootm.org/event/skylands-regional-tournament-2023/
LOCATION:Branchburg Central Middle School\, 220 Baird Rd\, Branchburg\, NJ\, 08876\, United States
CATEGORIES:Events,Skyland
ORGANIZER;CN="Joy Stephenson":MAILTO:skylands@njootm.org
END:VEVENT
BEGIN:VEVENT
DTSTART;VALUE=DATE:20200229
DTEND;VALUE=DATE:20200301
DTSTAMP:20260423T171656
CREATED:20190618T105223Z
LAST-MODIFIED:20190618T105223Z
UID:3668-1582934400-1583020799@njootm.org
SUMMARY:Skylands Regional Tournament
DESCRIPTION:
URL:https://njootm.org/event/skylands-regional-tournament-2/
LOCATION:Branchburg Central Middle School\, 220 Baird Rd\, Branchburg\, NJ\, 08876\, United States
CATEGORIES:Skyland
END:VEVENT
BEGIN:VEVENT
DTSTART;VALUE=DATE:20190316
DTEND;VALUE=DATE:20190317
DTSTAMP:20260423T171656
CREATED:20180819T024123Z
LAST-MODIFIED:20180819T024123Z
UID:2454-1552694400-1552780799@njootm.org
SUMMARY:Skylands Regional Tournament
DESCRIPTION:
URL:https://njootm.org/event/skylands-regional-tournament/
LOCATION:JP Case Middle School\, 301 Case Blvd\, Flemington\, NJ\, 08822\, United States
CATEGORIES:Events,Skyland
ORGANIZER;CN="Joy Stephenson":MAILTO:skylands@njootm.org
END:VEVENT
BEGIN:VEVENT
DTSTART;VALUE=DATE:20180317
DTEND;VALUE=DATE:20180318
DTSTAMP:20260423T171656
CREATED:20171012T022953Z
LAST-MODIFIED:20171016T173112Z
UID:1698-1521244800-1521331199@njootm.org
SUMMARY:Skylands Regional Tournament
DESCRIPTION:Join us for the first annual Skylands Regional Tournament being held at Branchburg Central Middle School.  NJ Odyssey of the Mind regional tournaments represent teams from all divisional age groups in the area to compete across all five problem categories.  The top two teams in each division for each problem will move on to the NJ State tournament. \nSkylands Regional Tournament
URL:https://njootm.org/event/skylands-regional-tournament-2018/
LOCATION:Branchburg Central Middle School\, 220 Baird Rd\, Branchburg\, NJ\, 08876\, United States
CATEGORIES:Events,Skyland
ORGANIZER;CN="Joy Stephenson":MAILTO:skylands@njootm.org
END:VEVENT
END:VCALENDAR