BEGIN:VCALENDAR
VERSION:2.0
PRODID:-//NJ Odyssey of the Mind - ECPv6.15.17.1//NONSGML v1.0//EN
CALSCALE:GREGORIAN
METHOD:PUBLISH
X-WR-CALNAME:NJ Odyssey of the Mind
X-ORIGINAL-URL:https://njootm.org
X-WR-CALDESC:Events for NJ Odyssey of the Mind
REFRESH-INTERVAL;VALUE=DURATION:PT1H
X-Robots-Tag:noindex
X-PUBLISHED-TTL:PT1H
BEGIN:VTIMEZONE
TZID:America/Halifax
BEGIN:DAYLIGHT
TZOFFSETFROM:-0400
TZOFFSETTO:-0300
TZNAME:ADT
DTSTART:20180311T060000
END:DAYLIGHT
BEGIN:STANDARD
TZOFFSETFROM:-0300
TZOFFSETTO:-0400
TZNAME:AST
DTSTART:20181104T050000
END:STANDARD
BEGIN:DAYLIGHT
TZOFFSETFROM:-0400
TZOFFSETTO:-0300
TZNAME:ADT
DTSTART:20190310T060000
END:DAYLIGHT
BEGIN:STANDARD
TZOFFSETFROM:-0300
TZOFFSETTO:-0400
TZNAME:AST
DTSTART:20191103T050000
END:STANDARD
BEGIN:DAYLIGHT
TZOFFSETFROM:-0400
TZOFFSETTO:-0300
TZNAME:ADT
DTSTART:20200308T060000
END:DAYLIGHT
BEGIN:STANDARD
TZOFFSETFROM:-0300
TZOFFSETTO:-0400
TZNAME:AST
DTSTART:20201101T050000
END:STANDARD
BEGIN:DAYLIGHT
TZOFFSETFROM:-0400
TZOFFSETTO:-0300
TZNAME:ADT
DTSTART:20210314T060000
END:DAYLIGHT
BEGIN:STANDARD
TZOFFSETFROM:-0300
TZOFFSETTO:-0400
TZNAME:AST
DTSTART:20211107T050000
END:STANDARD
BEGIN:DAYLIGHT
TZOFFSETFROM:-0400
TZOFFSETTO:-0300
TZNAME:ADT
DTSTART:20220313T060000
END:DAYLIGHT
BEGIN:STANDARD
TZOFFSETFROM:-0300
TZOFFSETTO:-0400
TZNAME:AST
DTSTART:20221106T050000
END:STANDARD
BEGIN:DAYLIGHT
TZOFFSETFROM:-0400
TZOFFSETTO:-0300
TZNAME:ADT
DTSTART:20230312T060000
END:DAYLIGHT
BEGIN:STANDARD
TZOFFSETFROM:-0300
TZOFFSETTO:-0400
TZNAME:AST
DTSTART:20231105T050000
END:STANDARD
BEGIN:DAYLIGHT
TZOFFSETFROM:-0400
TZOFFSETTO:-0300
TZNAME:ADT
DTSTART:20240310T060000
END:DAYLIGHT
BEGIN:STANDARD
TZOFFSETFROM:-0300
TZOFFSETTO:-0400
TZNAME:AST
DTSTART:20241103T050000
END:STANDARD
BEGIN:DAYLIGHT
TZOFFSETFROM:-0400
TZOFFSETTO:-0300
TZNAME:ADT
DTSTART:20250309T060000
END:DAYLIGHT
BEGIN:STANDARD
TZOFFSETFROM:-0300
TZOFFSETTO:-0400
TZNAME:AST
DTSTART:20251102T050000
END:STANDARD
END:VTIMEZONE
BEGIN:VEVENT
DTSTART;TZID=America/Halifax:20240127T090000
DTEND;TZID=America/Halifax:20240127T120000
DTSTAMP:20260423T201901
CREATED:20230926T010824Z
LAST-MODIFIED:20230926T010913Z
UID:9597-1706346000-1706356800@njootm.org
SUMMARY:Virtual Judges Training
DESCRIPTION:Judges training for our Virtual Regional Tournament will held via Google Meet on January 27\, 2024. Information on the time and how to access the training will be emailed to judges.
URL:https://njootm.org/event/virtual-judges-training-2/
CATEGORIES:Events,Officials Training
END:VEVENT
BEGIN:VEVENT
DTSTART;TZID=America/Halifax:20230121T083000
DTEND;TZID=America/Halifax:20230121T123000
DTSTAMP:20260423T201901
CREATED:20221206T015347Z
LAST-MODIFIED:20221206T015946Z
UID:9393-1674289800-1674304200@njootm.org
SUMMARY:Virtual Judges Training 2023
DESCRIPTION:Judges training for our Virtual Regional Tournament will held via Google Meet on January 21\, 2023. Information on the time and how to access the training will be emailed to judges.
URL:https://njootm.org/event/virtual-judges-training-2023/
LOCATION:Online
CATEGORIES:Events,Officials Training
ORGANIZER;CN="Trish Jamison":MAILTO:coastal@njootm.org
END:VEVENT
BEGIN:VEVENT
DTSTART;VALUE=DATE:20210130
DTEND;VALUE=DATE:20210131
DTSTAMP:20260423T201901
CREATED:20210116T180326Z
LAST-MODIFIED:20210116T180326Z
UID:8290-1611964800-1612051199@njootm.org
SUMMARY:Virtual Judges Training
DESCRIPTION:Judges training for our Virtual Regional Tournament will held via Google Meet on January 30th. Information on the time and how to access the training will be emailed to judges.
URL:https://njootm.org/event/virtual-judges-training/
CATEGORIES:Officials Training
ORGANIZER;CN="Trish Jamison":MAILTO:coastal@njootm.org
END:VEVENT
BEGIN:VEVENT
DTSTART;TZID=America/Halifax:20190202T080000
DTEND;TZID=America/Halifax:20190202T130000
DTSTAMP:20260423T201901
CREATED:20180806T022140Z
LAST-MODIFIED:20180806T022140Z
UID:2438-1549094400-1549112400@njootm.org
SUMMARY:Judges Training
DESCRIPTION:
URL:https://njootm.org/event/judges-training/
LOCATION:Fisher Middle School\, 1325 Lower Ferry Rd\, Ewing\, NJ\, 08618\, United States
CATEGORIES:Events,Officials Training
END:VEVENT
END:VCALENDAR