BEGIN:VCALENDAR
VERSION:2.0
PRODID:-//NJ Odyssey of the Mind - ECPv6.15.17.1//NONSGML v1.0//EN
CALSCALE:GREGORIAN
METHOD:PUBLISH
X-WR-CALNAME:NJ Odyssey of the Mind
X-ORIGINAL-URL:https://njootm.org
X-WR-CALDESC:Events for NJ Odyssey of the Mind
REFRESH-INTERVAL;VALUE=DURATION:PT1H
X-Robots-Tag:noindex
X-PUBLISHED-TTL:PT1H
BEGIN:VTIMEZONE
TZID:America/Halifax
BEGIN:DAYLIGHT
TZOFFSETFROM:-0400
TZOFFSETTO:-0300
TZNAME:ADT
DTSTART:20170312T060000
END:DAYLIGHT
BEGIN:STANDARD
TZOFFSETFROM:-0300
TZOFFSETTO:-0400
TZNAME:AST
DTSTART:20171105T050000
END:STANDARD
BEGIN:DAYLIGHT
TZOFFSETFROM:-0400
TZOFFSETTO:-0300
TZNAME:ADT
DTSTART:20180311T060000
END:DAYLIGHT
BEGIN:STANDARD
TZOFFSETFROM:-0300
TZOFFSETTO:-0400
TZNAME:AST
DTSTART:20181104T050000
END:STANDARD
BEGIN:DAYLIGHT
TZOFFSETFROM:-0400
TZOFFSETTO:-0300
TZNAME:ADT
DTSTART:20190310T060000
END:DAYLIGHT
BEGIN:STANDARD
TZOFFSETFROM:-0300
TZOFFSETTO:-0400
TZNAME:AST
DTSTART:20191103T050000
END:STANDARD
BEGIN:DAYLIGHT
TZOFFSETFROM:-0400
TZOFFSETTO:-0300
TZNAME:ADT
DTSTART:20200308T060000
END:DAYLIGHT
BEGIN:STANDARD
TZOFFSETFROM:-0300
TZOFFSETTO:-0400
TZNAME:AST
DTSTART:20201101T050000
END:STANDARD
BEGIN:DAYLIGHT
TZOFFSETFROM:-0400
TZOFFSETTO:-0300
TZNAME:ADT
DTSTART:20210314T060000
END:DAYLIGHT
BEGIN:STANDARD
TZOFFSETFROM:-0300
TZOFFSETTO:-0400
TZNAME:AST
DTSTART:20211107T050000
END:STANDARD
BEGIN:DAYLIGHT
TZOFFSETFROM:-0400
TZOFFSETTO:-0300
TZNAME:ADT
DTSTART:20220313T060000
END:DAYLIGHT
BEGIN:STANDARD
TZOFFSETFROM:-0300
TZOFFSETTO:-0400
TZNAME:AST
DTSTART:20221106T050000
END:STANDARD
BEGIN:DAYLIGHT
TZOFFSETFROM:-0400
TZOFFSETTO:-0300
TZNAME:ADT
DTSTART:20230312T060000
END:DAYLIGHT
BEGIN:STANDARD
TZOFFSETFROM:-0300
TZOFFSETTO:-0400
TZNAME:AST
DTSTART:20231105T050000
END:STANDARD
BEGIN:DAYLIGHT
TZOFFSETFROM:-0400
TZOFFSETTO:-0300
TZNAME:ADT
DTSTART:20240310T060000
END:DAYLIGHT
BEGIN:STANDARD
TZOFFSETFROM:-0300
TZOFFSETTO:-0400
TZNAME:AST
DTSTART:20241103T050000
END:STANDARD
BEGIN:DAYLIGHT
TZOFFSETFROM:-0400
TZOFFSETTO:-0300
TZNAME:ADT
DTSTART:20250309T060000
END:DAYLIGHT
BEGIN:STANDARD
TZOFFSETFROM:-0300
TZOFFSETTO:-0400
TZNAME:AST
DTSTART:20251102T050000
END:STANDARD
BEGIN:DAYLIGHT
TZOFFSETFROM:-0400
TZOFFSETTO:-0300
TZNAME:ADT
DTSTART:20260308T060000
END:DAYLIGHT
BEGIN:STANDARD
TZOFFSETFROM:-0300
TZOFFSETTO:-0400
TZNAME:AST
DTSTART:20261101T050000
END:STANDARD
END:VTIMEZONE
BEGIN:VEVENT
DTSTART;VALUE=DATE:20250308
DTEND;VALUE=DATE:20250309
DTSTAMP:20260423T165621
CREATED:20241203T182137Z
LAST-MODIFIED:20241203T182137Z
UID:9858-1741392000-1741478399@njootm.org
SUMMARY:2025 Coastal Plains Regional Tournament
DESCRIPTION:
URL:https://njootm.org/event/2025-coastal-plains-regional-tournament/
LOCATION:Woodstown-Pilesgrove School\, 140 East Ave\, Woodstown\, NJ\, 08098\, United States
CATEGORIES:Coastal Plains,Events
ORGANIZER;CN="Beth Nelting":MAILTO:coastal@njootm.org
END:VEVENT
BEGIN:VEVENT
DTSTART;VALUE=DATE:20240316
DTEND;VALUE=DATE:20240317
DTSTAMP:20260423T165621
CREATED:20230926T014258Z
LAST-MODIFIED:20230926T014258Z
UID:9612-1710547200-1710633599@njootm.org
SUMMARY:Costal Plains Regional Tournament 2024
DESCRIPTION:
URL:https://njootm.org/event/costal-plains-regional-tournament-2024/
LOCATION:Upper Township Schools\, 525 Perry Road\, Woodbine\, NJ\, 08270\, United States
CATEGORIES:Coastal Plains
END:VEVENT
BEGIN:VEVENT
DTSTART;VALUE=DATE:20230311
DTEND;VALUE=DATE:20230312
DTSTAMP:20260423T165621
CREATED:20221206T020053Z
LAST-MODIFIED:20221206T020131Z
UID:9407-1678492800-1678579199@njootm.org
SUMMARY:Coastal Plains Regional Tournament 2023
DESCRIPTION:
URL:https://njootm.org/event/coastal-plains-regional-tournament-2023/
LOCATION:Woodstown-Pilesgrove School\, 140 East Ave\, Woodstown\, NJ\, 08098\, United States
CATEGORIES:Coastal Plains,Events
ORGANIZER;CN="Beth Nelting":MAILTO:coastal@njootm.org
END:VEVENT
BEGIN:VEVENT
DTSTART;VALUE=DATE:20200314
DTEND;VALUE=DATE:20200315
DTSTAMP:20260423T165621
CREATED:20190618T105423Z
LAST-MODIFIED:20190618T105722Z
UID:3670-1584144000-1584230399@njootm.org
SUMMARY:Coastal Plains Regional Tournament
DESCRIPTION:
URL:https://njootm.org/event/coastal-plains-regional-tournament/
LOCATION:Woodstown-Pilesgrove School\, 140 East Ave\, Woodstown\, NJ\, 08098\, United States
CATEGORIES:Coastal Plains
END:VEVENT
BEGIN:VEVENT
DTSTART;VALUE=DATE:20190302
DTEND;VALUE=DATE:20190303
DTSTAMP:20260423T165621
CREATED:20181006T191518Z
LAST-MODIFIED:20181006T191518Z
UID:2510-1551484800-1551571199@njootm.org
SUMMARY:Coastal Plains Regional Tournament
DESCRIPTION:
URL:https://njootm.org/event/coastal-plains-regional-tournament-2/
LOCATION:Northern Burlington Co. Regional Middle School\, 180 Mansfield Rd E\, Columbus\, NJ\, 08022\, United States
CATEGORIES:Coastal Plains,Events
END:VEVENT
BEGIN:VEVENT
DTSTART;VALUE=DATE:20180317
DTEND;VALUE=DATE:20180318
DTSTAMP:20260423T165621
CREATED:20171012T022718Z
LAST-MODIFIED:20171016T173102Z
UID:1694-1521244800-1521331199@njootm.org
SUMMARY:Coastal Plains Regional Tournament
DESCRIPTION:Join us for the first annual Coastal Plains Regional Tournament being held at Woodstown-Pilesgrove School District.  NJ Odyssey of the Mind regional tournaments represent teams from all divisional age groups in the area to compete across all five problem categories.  The top two teams in each division for each problem will move on to the NJ State tournament. \nCoastal Plains Regional Tournament
URL:https://njootm.org/event/coastal-plains-regional-tournament-2018/
LOCATION:Woodstown-Pilesgrove School\, 140 East Ave\, Woodstown\, NJ\, 08098\, United States
CATEGORIES:Coastal Plains,Events
ORGANIZER;CN="Trish Jamison":MAILTO:coastal@njootm.org
END:VEVENT
END:VCALENDAR