BEGIN:VCALENDAR
VERSION:2.0
PRODID:-//NJ Odyssey of the Mind - ECPv6.15.17.1//NONSGML v1.0//EN
CALSCALE:GREGORIAN
METHOD:PUBLISH
X-WR-CALNAME:NJ Odyssey of the Mind
X-ORIGINAL-URL:https://njootm.org
X-WR-CALDESC:Events for NJ Odyssey of the Mind
REFRESH-INTERVAL;VALUE=DURATION:PT1H
X-Robots-Tag:noindex
X-PUBLISHED-TTL:PT1H
BEGIN:VTIMEZONE
TZID:America/Halifax
BEGIN:DAYLIGHT
TZOFFSETFROM:-0400
TZOFFSETTO:-0300
TZNAME:ADT
DTSTART:20160313T060000
END:DAYLIGHT
BEGIN:STANDARD
TZOFFSETFROM:-0300
TZOFFSETTO:-0400
TZNAME:AST
DTSTART:20161106T050000
END:STANDARD
BEGIN:DAYLIGHT
TZOFFSETFROM:-0400
TZOFFSETTO:-0300
TZNAME:ADT
DTSTART:20170312T060000
END:DAYLIGHT
BEGIN:STANDARD
TZOFFSETFROM:-0300
TZOFFSETTO:-0400
TZNAME:AST
DTSTART:20171105T050000
END:STANDARD
BEGIN:DAYLIGHT
TZOFFSETFROM:-0400
TZOFFSETTO:-0300
TZNAME:ADT
DTSTART:20180311T060000
END:DAYLIGHT
BEGIN:STANDARD
TZOFFSETFROM:-0300
TZOFFSETTO:-0400
TZNAME:AST
DTSTART:20181104T050000
END:STANDARD
BEGIN:DAYLIGHT
TZOFFSETFROM:-0400
TZOFFSETTO:-0300
TZNAME:ADT
DTSTART:20190310T060000
END:DAYLIGHT
BEGIN:STANDARD
TZOFFSETFROM:-0300
TZOFFSETTO:-0400
TZNAME:AST
DTSTART:20191103T050000
END:STANDARD
BEGIN:DAYLIGHT
TZOFFSETFROM:-0400
TZOFFSETTO:-0300
TZNAME:ADT
DTSTART:20200308T060000
END:DAYLIGHT
BEGIN:STANDARD
TZOFFSETFROM:-0300
TZOFFSETTO:-0400
TZNAME:AST
DTSTART:20201101T050000
END:STANDARD
BEGIN:DAYLIGHT
TZOFFSETFROM:-0400
TZOFFSETTO:-0300
TZNAME:ADT
DTSTART:20210314T060000
END:DAYLIGHT
BEGIN:STANDARD
TZOFFSETFROM:-0300
TZOFFSETTO:-0400
TZNAME:AST
DTSTART:20211107T050000
END:STANDARD
BEGIN:DAYLIGHT
TZOFFSETFROM:-0400
TZOFFSETTO:-0300
TZNAME:ADT
DTSTART:20220313T060000
END:DAYLIGHT
BEGIN:STANDARD
TZOFFSETFROM:-0300
TZOFFSETTO:-0400
TZNAME:AST
DTSTART:20221106T050000
END:STANDARD
BEGIN:DAYLIGHT
TZOFFSETFROM:-0400
TZOFFSETTO:-0300
TZNAME:ADT
DTSTART:20230312T060000
END:DAYLIGHT
BEGIN:STANDARD
TZOFFSETFROM:-0300
TZOFFSETTO:-0400
TZNAME:AST
DTSTART:20231105T050000
END:STANDARD
BEGIN:DAYLIGHT
TZOFFSETFROM:-0400
TZOFFSETTO:-0300
TZNAME:ADT
DTSTART:20240310T060000
END:DAYLIGHT
BEGIN:STANDARD
TZOFFSETFROM:-0300
TZOFFSETTO:-0400
TZNAME:AST
DTSTART:20241103T050000
END:STANDARD
END:VTIMEZONE
BEGIN:VTIMEZONE
TZID:UTC
BEGIN:STANDARD
TZOFFSETFROM:+0000
TZOFFSETTO:+0000
TZNAME:UTC
DTSTART:20160101T000000
END:STANDARD
END:VTIMEZONE
BEGIN:VEVENT
DTSTART;TZID=America/Halifax:20231118T090000
DTEND;TZID=America/Halifax:20231118T130000
DTSTAMP:20260423T182749
CREATED:20230926T010230Z
LAST-MODIFIED:20230926T010854Z
UID:9594-1700298000-1700312400@njootm.org
SUMMARY:Virtual Coaches Training #2
DESCRIPTION:Join us for our first Virtual Coaches Training!  We’ll be sharing more information on the training closer to the beginning of the school year\, but we are preparing to hold training virtually on October 21\, 2023 and November 18\, 2023. There is no cost to attend and you can attend the date of your choice. In the meantime\, you can check out our Coaches page for resources and other information on coaching if you are new to Odyssey of the Mind.
URL:https://njootm.org/event/virtual-coaches-training-2-2/
CATEGORIES:Coaches Training,Events
END:VEVENT
BEGIN:VEVENT
DTSTART;TZID=America/Halifax:20231021T090000
DTEND;TZID=America/Halifax:20231021T130000
DTSTAMP:20260423T182749
CREATED:20230926T010103Z
LAST-MODIFIED:20230926T010927Z
UID:9592-1697878800-1697893200@njootm.org
SUMMARY:Virtual Coaches Training #1
DESCRIPTION:Join us for our first Virtual Coaches Training!  We’ll be sharing more information on the training closer to the beginning of the school year\, but we are preparing to hold training virtually on October 21\, 2023 and November 18\, 2023. There is no cost to attend and you can attend the date of your choice. In the meantime\, you can check out our Coaches page for resources and other information on coaching if you are new to Odyssey of the Mind.
URL:https://njootm.org/event/virtual-coaches-training-1-2/
CATEGORIES:Coaches Training,Events
END:VEVENT
BEGIN:VEVENT
DTSTART;VALUE=DATE:20201114
DTEND;VALUE=DATE:20201115
DTSTAMP:20260423T182749
CREATED:20200805T201258Z
LAST-MODIFIED:20200805T201514Z
UID:6676-1605312000-1605398399@njootm.org
SUMMARY:Virtual Coaches Training #2
DESCRIPTION:Join us for our first Virtual Coaches Training!  We’ll be sharing more information on the training closer to the beginning of the school year\, but we are preparing to hold training virtually on October 17\, 2020 and November 14\, 2020. There is no cost to attend and you can attend the date of your choice. In the meantime\, you can check out our Coaches page for resources and other information on coaching if you are new to Odyssey of the Mind.
URL:https://njootm.org/event/virtual-coaches-training-2/
CATEGORIES:Coaches Training
END:VEVENT
BEGIN:VEVENT
DTSTART;VALUE=DATE:20201017
DTEND;VALUE=DATE:20201018
DTSTAMP:20260423T182749
CREATED:20200805T201201Z
LAST-MODIFIED:20200805T201201Z
UID:6674-1602892800-1602979199@njootm.org
SUMMARY:Virtual Coaches Training #1
DESCRIPTION:Join us for our first Virtual Coaches Training!  We’ll be sharing more information on the training closer to the beginning of the school year\, but we are preparing to hold training virtually on October 17\, 2020 and November 14\, 2020. There is no cost to attend and you can attend the date of your choice. In the meantime\, you can check out our Coaches pagefor resources and other information on coaching if you are new to Odyssey of the Mind.
URL:https://njootm.org/event/virtual-coaches-training-1/
CATEGORIES:Coaches Training
END:VEVENT
BEGIN:VEVENT
DTSTART;TZID=America/Halifax:20191102T080000
DTEND;TZID=America/Halifax:20191102T130000
DTSTAMP:20260423T182749
CREATED:20190821T120840Z
LAST-MODIFIED:20190824T144945Z
UID:4070-1572681600-1572699600@njootm.org
SUMMARY:Coaches Training #2
DESCRIPTION:Join us for the second training session for the NJ Odyssey of the Mind for the 2019/2020 season. Coaches are asked to attend one of the two sessions we offer. These sessions are a great place to learn and to get to spend time with the NJ Odyssey community. \nWe will continue our breakout session style workshops\, allowing coaches to attend several different types of sessions based on the specific problem types\, coaching rules and requirements\, and sessions led by Odyssey experts.
URL:https://njootm.org/event/coaches-training-2-2/
LOCATION:Glenwood School\, 325 Taylor Rd S\, Short Hills\, NJ\, 07078\, United States
CATEGORIES:Coaches Training
ORGANIZER;CN="Sue Zavaglia":MAILTO:coaches@njootm.org
END:VEVENT
BEGIN:VEVENT
DTSTART;TZID=America/Halifax:20191005T080000
DTEND;TZID=America/Halifax:20191005T130000
DTSTAMP:20260423T182749
CREATED:20190821T120621Z
LAST-MODIFIED:20190824T145027Z
UID:4066-1570262400-1570280400@njootm.org
SUMMARY:Coaches Training #1
DESCRIPTION:Join us for the first coaches training for the NJ Odyssey of the Mind for the 2019/2020 season. Coaches are asked to attend one of the two sessions we offer. These sessions are a great place to learn and to get to spend time with the NJ Odyssey community. \nWe will continue our breakout session style workshops\, allowing coaches to attend several different types of sessions based on the specific problem types\, coaching rules and requirements\, and sessions led by Odyssey experts.
URL:https://njootm.org/event/coaches-training-1/
LOCATION:St. Mary’s School\, 32 Carroll Ave # A\,\, Williamstown\, NJ\, 08094\, United States
CATEGORIES:Coaches Training
ORGANIZER;CN="Sue Zavaglia":MAILTO:coaches@njootm.org
END:VEVENT
BEGIN:VEVENT
DTSTART;TZID=America/Halifax:20190209T080000
DTEND;TZID=America/Halifax:20190209T130000
DTSTAMP:20260423T182749
CREATED:20180806T022502Z
LAST-MODIFIED:20180806T022502Z
UID:2440-1549699200-1549717200@njootm.org
SUMMARY:Judges Training - Snow Date
DESCRIPTION:
URL:https://njootm.org/event/judges-training-snow-date/
LOCATION:Fisher Middle School\, 1325 Lower Ferry Rd\, Ewing\, NJ\, 08618\, United States
CATEGORIES:Coaches Training,Events
END:VEVENT
BEGIN:VEVENT
DTSTART;TZID=America/Halifax:20181103T080000
DTEND;TZID=America/Halifax:20181103T130000
DTSTAMP:20260423T182749
CREATED:20180806T021745Z
LAST-MODIFIED:20180819T014158Z
UID:2435-1541232000-1541250000@njootm.org
SUMMARY:Coaches Training #2
DESCRIPTION:This is the second coaches training session for NJ Odyssey of the Mind for the 2018/2019 season. Coaches are asked to attend one of the two sessions we offer. These sessions are a great place to learn and to get to spend time with the NJ Odyssey community. \nWe will continue our breakout session style workshops\, allowing coaches to attend several different types of sessions based on the specific problem types\, coaching rules and requirements\, and sessions led by Odyssey experts.
URL:https://njootm.org/event/coaches-training-2/
LOCATION:Woodstown Presbyterian Church\, 46 Auburn Rd.\, Woodstown\, 08098\, United States
CATEGORIES:Coaches Training,Events
ORGANIZER;CN="Sue Zavaglia":MAILTO:coaches@njootm.org
END:VEVENT
BEGIN:VEVENT
DTSTART;TZID=America/Halifax:20180929T080000
DTEND;TZID=America/Halifax:20180929T130000
DTSTAMP:20260423T182749
CREATED:20180806T021613Z
LAST-MODIFIED:20180819T014054Z
UID:2433-1538208000-1538226000@njootm.org
SUMMARY:Coaches Training #1
DESCRIPTION:This is the first coaches training session for NJ Odyssey of the Mind for the 2018/2019 season. Coaches are asked to attend one of the two sessions we offer. These sessions are a great place to learn and to get to spend time with the NJ Odyssey community. \nWe will continue our breakout session style workshops\, allowing coaches to attend several different types of sessions based on the specific problem types\, coaching rules and requirements\, and sessions led by Odyssey experts.
URL:https://njootm.org/event/coaches-training/
LOCATION:Glenwood School\, 325 Taylor Rd S\, Short Hills\, NJ\, 07078\, United States
CATEGORIES:Coaches Training,Events
ORGANIZER;CN="Sue Zavaglia":MAILTO:coaches@njootm.org
END:VEVENT
BEGIN:VEVENT
DTSTART;TZID=UTC:20171118T080000
DTEND;TZID=UTC:20171118T130000
DTSTAMP:20260423T182749
CREATED:20170729T214536Z
LAST-MODIFIED:20171016T173133Z
UID:1128-1510992000-1511010000@njootm.org
SUMMARY:Coaches Training
DESCRIPTION:NJ Odyssey Coaches Training \nThis is the second Coaches training session for NJ Odyssey of the Mind for the 2017/2018 season. Coaches are required to attend one of the two sessions we offer. These sessions are a great place to learn about the program and spend time with the NJ Odyssey community. \nWe will continue our breakout session style workshops\, allowing coaches to attend several different types of sessions based on the specific problem types\, coaching rules and requirements\, and sessions led by Odyssey experts.
URL:https://njootm.org/event/coaches-training-2-2018/
LOCATION:Glenwood School\, 325 Taylor Rd S\, Short Hills\, NJ\, 07078\, United States
CATEGORIES:Coaches Training,Events
ORGANIZER;CN="Sue Zavaglia":MAILTO:coaches@njootm.org
END:VEVENT
BEGIN:VEVENT
DTSTART;TZID=America/Halifax:20171014T080000
DTEND;TZID=America/Halifax:20171014T130000
DTSTAMP:20260423T182749
CREATED:20170729T211902Z
LAST-MODIFIED:20171016T173142Z
UID:1092-1507968000-1507986000@njootm.org
SUMMARY:Coaches Training
DESCRIPTION:NJ Odyssey Coaches Training \nThis is the first coaches training session for NJ Odyssey of the Mind for the 2017/2018 season. Coaches are required to attend one of the two sessions we offer. These sessions are a great place to learn and to get to spend time with the NJ Odyssey community. \nWe will continue our breakout session style workshops\, allowing coaches to attend several different types of sessions based on the specific problem types\, coaching rules and requirements\, and sessions led by Odyssey experts.
URL:https://njootm.org/event/coaches-training-1-2018/
LOCATION:Haddonfield Middle School\, 5 Lincoln Ave\, Haddonfield\, NJ\, 08033\, United States
CATEGORIES:Coaches Training,Events
ORGANIZER;CN="Sue Zavaglia":MAILTO:coaches@njootm.org
END:VEVENT
END:VCALENDAR